BEGIN:VCALENDAR
VERSION:2.0
PRODID:-//136.243.73.16//NONSGML kigkonsult.se iCalcreator 2.20//
CALSCALE:GREGORIAN
METHOD:PUBLISH
X-WR-TIMEZONE:Europe/Berlin
BEGIN:VEVENT
UID:event73@Schuetzengau Schwabach Roth Hilpoltstein
DTSTAMP:20260423T170634Z
CATEGORIES:Termine-Damen
DESCRIPTION:Blumenschießen der Schützinnen\nKategorie: Termine-Damen\nICS-L
 ink: https://gau-srh.de/index.php?option=com_jem&view=event&id=73:blumensc
 hiessen-der-schuetzinnen\n
DTSTART;TZID=Europe/Berlin:20260519T180000
DTEND;TZID=Europe/Berlin:20260520T180000
LOCATION:Schützengruppe Kornburg
SUMMARY:Blumenschießen der Schützinnen
URL:https://gau-srh.de/index.php?option=com_jem&view=event&id=73:blumenschi
 essen-der-schuetzinnen
END:VEVENT
END:VCALENDAR
