BEGIN:VCALENDAR
VERSION:2.0
PRODID:-//136.243.73.16//NONSGML kigkonsult.se iCalcreator 2.20//
CALSCALE:GREGORIAN
METHOD:PUBLISH
X-WR-TIMEZONE:Europe/Berlin
BEGIN:VEVENT
UID:event75@Schuetzengau Schwabach Roth Hilpoltstein
DTSTAMP:20260423T170633Z
CATEGORIES:Veranstaltungen
DESCRIPTION:Goldschlägerpokalschießen bei der SSG Rohr\nKategorie: Veransta
 ltungen\nICS-Link: https://gau-srh.de/index.php?option=com_jem&view=event&
 id=75:goldschlaegerpokalschiessen-bei-der-ssg-rohr\n
DTSTART;TZID=Europe/Berlin:20260522T180000
DTEND;TZID=Europe/Berlin:20260522T180000
LOCATION:SSG e.V. Rohr
SUMMARY:Goldschlägerpokalschießen bei der SSG Rohr
URL:https://gau-srh.de/index.php?option=com_jem&view=event&id=75:goldschlae
 gerpokalschiessen-bei-der-ssg-rohr
END:VEVENT
END:VCALENDAR
