BEGIN:VCALENDAR
VERSION:2.0
PRODID:-//136.243.73.16//NONSGML kigkonsult.se iCalcreator 2.20//
CALSCALE:GREGORIAN
METHOD:PUBLISH
X-WR-TIMEZONE:Europe/Berlin
BEGIN:VEVENT
UID:event78@Schuetzengau Schwabach Roth Hilpoltstein
DTSTAMP:20260423T185625Z
CATEGORIES:Termine-Damen
DESCRIPTION:Strohschießen der Schützinnen\nKategorie: Termine-Damen\nICS-Li
 nk: https://gau-srh.de/index.php?option=com_jem&view=event&id=78:strohschi
 essen-der-schuetzinnen\n
DTSTART;TZID=Europe/Berlin:20260915T180000
DTEND;TZID=Europe/Berlin:20260915T180000
LOCATION:Zimmerstutzen-Gesellschaft e.V. Katzwang
SUMMARY:Strohschießen der Schützinnen
URL:https://gau-srh.de/index.php?option=com_jem&view=event&id=78:strohschie
 ssen-der-schuetzinnen
END:VEVENT
END:VCALENDAR
