BEGIN:VCALENDAR
VERSION:2.0
PRODID:-//136.243.73.16//NONSGML kigkonsult.se iCalcreator 2.20//
CALSCALE:GREGORIAN
METHOD:PUBLISH
X-WR-TIMEZONE:Europe/Berlin
BEGIN:VEVENT
UID:event80@Schuetzengau Schwabach Roth Hilpoltstein
DTSTAMP:20260423T204137Z
CATEGORIES:Veranstaltungen
DESCRIPTION:Otto-Wälzlein-Pokal-Schießen\nKategorie: Veranstaltungen\nICS-L
 ink: https://gau-srh.de/index.php?option=com_jem&view=event&id=80:otto-wae
 lzlein-pokal-schiessen\n
DTSTART;VALUE=DATE:20260926
DTEND;VALUE=DATE:20260927
LOCATION:Schützengruppe Kornburg
SUMMARY:Otto-Wälzlein-Pokal-Schießen
URL:https://gau-srh.de/index.php?option=com_jem&view=event&id=80:otto-waelz
 lein-pokal-schiessen
END:VEVENT
END:VCALENDAR
